BEGIN:VCALENDAR
VERSION:2.0
PRODID:-//Le Grand Village Plage//NONSGML kigkonsult.se iCalcreator 2.41.92//
CALSCALE:GREGORIAN
METHOD:PUBLISH
UID:34626632-3139-4663-b833-393239366139
X-WR-CALNAME:iCagenda
X-WR-CALDESC:Event Management Extension for Joomla!
X-WR-RELCALID:3E26604A-50F4-4449-8B3E-E4F4932D05B5
X-WR-TIMEZONE:Europe/Paris
BEGIN:VTIMEZONE
TZID:Europe/Paris
TZUNTIL:20270328T010000Z
BEGIN:STANDARD
TZNAME:CET
DTSTART:20241027T030000
TZOFFSETFROM:+0200
TZOFFSETTO:+0100
RDATE:20251026T030000
RDATE:20261025T030000
END:STANDARD
BEGIN:DAYLIGHT
TZNAME:CEST
DTSTART:20250330T020000
TZOFFSETFROM:+0100
TZOFFSETTO:+0200
RDATE:20260329T020000
END:DAYLIGHT
END:VTIMEZONE
BEGIN:VEVENT
UID:36643366-6632-4561-a135-303838343736
DTSTAMP:20260421T093542Z
CATEGORIES:Les Concerts de la Maison Paysanne
CLASS:PUBLIC
DESCRIPTION;ALTREP="CID:<FFFF__=0ABBE548DFE235B58f9e8a93d@coffeebean.com>":
 \n\nLes Cactus Riders\n\n\n\n\nLe show des CACTUS RIDERS est une véritable
  machine à remonter le temps. Avec leur look\, leurs instruments\, leurs v
 oix\, ils ressuscitent avec une authentique énergie ces chansons des année
 s 50 que l'on a tous en mémoire. Des plus jeunes aux plus anciens\, voici 
 une musique qui rassemble lorsqu'elle est incarnée par les CACTUS RIDERS. 
 Il est impossible de ne pas sentir son corps partir dans toutes les direct
 ions\, notamment celle de la piste\, pour une danse libératrice.\n
DTSTART:20250807T143600Z
DTEND:20250807T143600Z
GEO:+45.860573;-1.238676
LOCATION:Les Jardins de la Maison Paysanne
ORGANIZER:
SEQUENCE:1
SUMMARY:Les Concerts 2025 de la Maison Paysanne : Les Cactus Riders
TRANSP:OPAQUE
URL:https://legrandvillageplage.fr/la-municipalite/lagenda-de-la-commune/46
 1-les-concerts-2025-de-la-maison-paysanne-les-cactus-riders/2025-08-07-16-
 36
END:VEVENT
END:VCALENDAR
