BEGIN:VCALENDAR
VERSION:2.0
PRODID:-//Le Grand Village Plage//NONSGML kigkonsult.se iCalcreator 2.41.92//
CALSCALE:GREGORIAN
METHOD:PUBLISH
UID:36663465-3266-4266-b463-393963346264
X-WR-CALNAME:iCagenda
X-WR-CALDESC:Event Management Extension for Joomla!
X-WR-RELCALID:3E26604A-50F4-4449-8B3E-E4F4932D05B5
X-WR-TIMEZONE:Europe/Paris
BEGIN:VTIMEZONE
TZID:Europe/Paris
TZUNTIL:20271031T010000Z
BEGIN:STANDARD
TZNAME:CET
DTSTART:20251026T030000
TZOFFSETFROM:+0200
TZOFFSETTO:+0100
RDATE:20261025T030000
END:STANDARD
BEGIN:DAYLIGHT
TZNAME:CEST
DTSTART:20250330T020000
TZOFFSETFROM:+0100
TZOFFSETTO:+0200
RDATE:20260329T020000
RDATE:20270328T020000
END:DAYLIGHT
END:VTIMEZONE
BEGIN:VEVENT
UID:39613561-6265-4736-b931-623731326532
DTSTAMP:20260421T081850Z
CATEGORIES:Foyer Rural
CLASS:PUBLIC
DESCRIPTION;ALTREP="CID:<FFFF__=0ABBE548DFE235B58f9e8a93d@coffeebean.com>":
 \nDans le cadre du Téléthon\, le Foyer Rural&nbsp\;vous invite à un repas 
 dansant&nbsp\;au bénéfice de l'AFM Téléthon&nbsp\;dans la salle polyvalent
 e.&nbsp\;\nUn événement incontournable pour soutenir une grande cause.&nbs
 p\;\nL'intégralité des bénéfices de ce repas&nbsp\;sera reversée à l'assoc
 iation AFM TÉLÉTHON...\nDès 12h00\,&nbsp\;nous vous invitons à&nbsp\;nous 
 rejoindre pour venir déguster une délicieuse Paëlla royale preparée devant
  vous\, composée de crustacés (langoustines \, moules en coquilles et moul
 es&nbsp\;décortiquées)\, anneaux d'encornets\, seiches entières\, crevette
 s roses fraiches et viandes (poulet pilons et hauts de cuisses)\, et deux 
 sortes de chorizo (petit\, courbé et grand\, cular) de&nbsp\;riz\, petits 
 pois\, poivrons rouges et verts\, oignons\, ail\, épices maison et citron.
 \nUne ambiance musicale vous sera proposée par Stéphanie MOREAUX et David 
 le CROONER.\nNous vous attendons&nbsp\;nombreux sur la piste de danse....&
 nbsp\; &nbsp\;\n* Vin à volonté durant le repas. L'abus d'alcool est dange
 reux pour la santé\, à consommer avec modération.\nPour des raisons d'orga
 nisation du repas\, le nombre de convives par table&nbsp\;est strictement 
 limité à 12 personnes...\nLe maximun est fait pour placer les convives en 
 fonction de leurs demandes\, mais nous ne pouvons faire de miracle...\n\n
 \nRenseignements et inscriptions : 06 60 76 24 05\n&nbsp\;\n\nSalle Polyva
 lente de Grand Village 1 Boulevard de la plage\, 17370 Le Grand Village Pl
 age&nbsp\;\n\n\n\nBulletin d'inscription...\n\n\n\nINSCRIPTION avant le 06
  mars...&nbsp\;\nVous pouvez télécharger le&nbsp\;bulletin d'inscription&n
 bsp\;en cliquant ci-dessous.\nVous ne pouvez pas imprimer le bulletin d'in
 scription...Vous pouvez simplement envoyer au Foyer Rural\, une demande pa
 r courrier à l'adresse ci-dessous\, ou la déposer en mairie\, avec un chèq
 ue du montant correspondant au nombre de place désirée&nbsp\;sans oublier 
 d'indiquer un&nbsp\;mail et un numéro de téléphone pour confirmation inscr
 iption&nbsp\;(Plus d'envoi par courrier)...\nFoyer Rural Le Grand Village 
 PlageMairie\,&nbsp\;3&nbsp\;bd de la Plage17370 LE GRAND VILLAGE PLAGE\n\n
 \n\n\n\n\n\n\n\n\n\n\n\n\n
DTSTART:20260306T072300Z
DTEND:20260306T072300Z
GEO:+45.861328;-1.238169
LOCATION:Salle G.Esnard
ORGANIZER:
SEQUENCE:1
SUMMARY:Inscription : Repas Dansant du Téléthon
TRANSP:OPAQUE
URL:https://legrandvillageplage.fr/la-municipalite/lagenda-de-la-commune/50
 3-inscription-repas-dansant-du-telethon/2026-03-06-08-23
END:VEVENT
END:VCALENDAR
