BEGIN:VCALENDAR
VERSION:2.0
PRODID:-//Le Grand Village Plage//NONSGML kigkonsult.se iCalcreator 2.41.92//
CALSCALE:GREGORIAN
METHOD:PUBLISH
UID:66313132-3264-4662-a165-653330636664
X-WR-CALNAME:iCagenda
X-WR-CALDESC:Event Management Extension for Joomla!
X-WR-RELCALID:3E26604A-50F4-4449-8B3E-E4F4932D05B5
X-WR-TIMEZONE:Europe/Paris
BEGIN:VTIMEZONE
TZID:Europe/Paris
TZUNTIL:20271031T010000Z
BEGIN:STANDARD
TZNAME:CET
DTSTART:20251026T030000
TZOFFSETFROM:+0200
TZOFFSETTO:+0100
RDATE:20261025T030000
END:STANDARD
BEGIN:DAYLIGHT
TZNAME:CEST
DTSTART:20250330T020000
TZOFFSETFROM:+0100
TZOFFSETTO:+0200
RDATE:20260329T020000
RDATE:20270328T020000
END:DAYLIGHT
END:VTIMEZONE
BEGIN:VEVENT
UID:35323234-3830-4664-a539-393637633235
DTSTAMP:20260421T093916Z
CATEGORIES:Conseil Municipal
CLASS:PUBLIC
DESCRIPTION;ALTREP="CID:<FFFF__=0ABBE548DFE235B58f9e8a93d@coffeebean.com>":
 Réunion du conseil municipal\n&nbsp\;\nMM. les membres du Conseil Municipa
 l sont convoqués dans la salle du conseil municipal en mairie pour la réun
 ion qui aura lieu&nbsp\;:\nLe vendredi 20 mars à 18 heures 00 en mairie -&
 nbsp\; Salle du conseil municipal&nbsp\;&nbsp\;\n&nbsp\;
DTSTART:20260320T170000Z
DTEND:20260320T170000Z
GEO:+45.861042;-1.23867
LOCATION:Salle du Conseil
ORGANIZER:
SEQUENCE:1
SUMMARY:Conseil Municipal du 20 mars 2026
TRANSP:OPAQUE
URL:https://legrandvillageplage.fr/la-municipalite/lagenda-de-la-commune/51
 1-conseil-municipal-du-20-mars-2026/2026-03-20-18-00
END:VEVENT
END:VCALENDAR
